BEGIN:VCALENDAR
VERSION:2.0
PRODID:-//Nepal Spine Foundation - ECPv6.15.18//NONSGML v1.0//EN
CALSCALE:GREGORIAN
METHOD:PUBLISH
X-WR-CALNAME:Nepal Spine Foundation
X-ORIGINAL-URL:https://nepalspinefoundation.com
X-WR-CALDESC:Events for Nepal Spine Foundation
REFRESH-INTERVAL;VALUE=DURATION:PT1H
X-Robots-Tag:noindex
X-PUBLISHED-TTL:PT1H
BEGIN:VTIMEZONE
TZID:America/Los_Angeles
BEGIN:DAYLIGHT
TZOFFSETFROM:-0800
TZOFFSETTO:-0700
TZNAME:PDT
DTSTART:20190310T100000
END:DAYLIGHT
BEGIN:STANDARD
TZOFFSETFROM:-0700
TZOFFSETTO:-0800
TZNAME:PST
DTSTART:20191103T090000
END:STANDARD
BEGIN:DAYLIGHT
TZOFFSETFROM:-0800
TZOFFSETTO:-0700
TZNAME:PDT
DTSTART:20200308T100000
END:DAYLIGHT
BEGIN:STANDARD
TZOFFSETFROM:-0700
TZOFFSETTO:-0800
TZNAME:PST
DTSTART:20201101T090000
END:STANDARD
BEGIN:DAYLIGHT
TZOFFSETFROM:-0800
TZOFFSETTO:-0700
TZNAME:PDT
DTSTART:20210314T100000
END:DAYLIGHT
BEGIN:STANDARD
TZOFFSETFROM:-0700
TZOFFSETTO:-0800
TZNAME:PST
DTSTART:20211107T090000
END:STANDARD
BEGIN:DAYLIGHT
TZOFFSETFROM:-0800
TZOFFSETTO:-0700
TZNAME:PDT
DTSTART:20220313T100000
END:DAYLIGHT
BEGIN:STANDARD
TZOFFSETFROM:-0700
TZOFFSETTO:-0800
TZNAME:PST
DTSTART:20221106T090000
END:STANDARD
BEGIN:DAYLIGHT
TZOFFSETFROM:-0800
TZOFFSETTO:-0700
TZNAME:PDT
DTSTART:20230312T100000
END:DAYLIGHT
BEGIN:STANDARD
TZOFFSETFROM:-0700
TZOFFSETTO:-0800
TZNAME:PST
DTSTART:20231105T090000
END:STANDARD
BEGIN:DAYLIGHT
TZOFFSETFROM:-0800
TZOFFSETTO:-0700
TZNAME:PDT
DTSTART:20240310T100000
END:DAYLIGHT
BEGIN:STANDARD
TZOFFSETFROM:-0700
TZOFFSETTO:-0800
TZNAME:PST
DTSTART:20241103T090000
END:STANDARD
END:VTIMEZONE
BEGIN:VEVENT
DTSTART;TZID=America/Los_Angeles:20230210T190000
DTEND;TZID=America/Los_Angeles:20230210T200000
DTSTAMP:20260425T063153
CREATED:20230106T225618Z
LAST-MODIFIED:20250711T225003Z
UID:1136-1676055600-1676059200@nepalspinefoundation.com
SUMMARY:February 10\, 2023 - Zoom Meeting
DESCRIPTION:7pm PDT (Feb. 11\, 2023\, 0845 Nepal time)\nTodd Alamin\, MD\, Patient Selection for ALIFs; resident cases
URL:https://nepalspinefoundation.com/event/february-2023-zoom-meeting/
END:VEVENT
BEGIN:VEVENT
DTSTART;TZID=America/Los_Angeles:20230106T190000
DTEND;TZID=America/Los_Angeles:20230106T200000
DTSTAMP:20260425T063153
CREATED:20230106T225529Z
LAST-MODIFIED:20250711T225003Z
UID:1134-1673031600-1673035200@nepalspinefoundation.com
SUMMARY:January 6\, 2023 - Zoom Meeting
DESCRIPTION:7pm PDT (Jan. 7\, 2023\, 0845 Nepal time)\nKyle Mahaffey\, PA; Catherine Jackson\, PA\, Physician Assistants in Neurosurgery; resident cases
URL:https://nepalspinefoundation.com/event/january-2023-zoom-meeting/
END:VEVENT
BEGIN:VEVENT
DTSTART;TZID=America/Los_Angeles:20220715T200000
DTEND;TZID=America/Los_Angeles:20220715T210000
DTSTAMP:20260425T063153
CREATED:20211209T235801Z
LAST-MODIFIED:20250711T225003Z
UID:596-1657915200-1657918800@nepalspinefoundation.com
SUMMARY:July 2022 Monthly Zoom Meeting
DESCRIPTION:8pm PDT (July 15\, 0845 Nepal time) Kyle Mahaffey\, PA\, Physician Assistants in Neurosurgery
URL:https://nepalspinefoundation.com/event/july-2022-monthly-zoom-meeting/
END:VEVENT
BEGIN:VEVENT
DTSTART;TZID=America/Los_Angeles:20220603T200000
DTEND;TZID=America/Los_Angeles:20220603T210000
DTSTAMP:20260425T063153
CREATED:20211209T235653Z
LAST-MODIFIED:20250711T225003Z
UID:594-1654286400-1654290000@nepalspinefoundation.com
SUMMARY:June 2022 Monthly Zoom Meeting
DESCRIPTION:8pm PDT (June 3\, 0845 Nepal time) Ken Nwosu\, MD\, Endoscopic Spine Surgery
URL:https://nepalspinefoundation.com/event/june-2022-monthly-zoom-meeting/
END:VEVENT
BEGIN:VEVENT
DTSTART;TZID=America/Los_Angeles:20220506T200000
DTEND;TZID=America/Los_Angeles:20220506T210000
DTSTAMP:20260425T063153
CREATED:20211209T235515Z
LAST-MODIFIED:20211209T235515Z
UID:592-1651867200-1651870800@nepalspinefoundation.com
SUMMARY:May 2022 Monthly Zoom Meeting
DESCRIPTION:8pm PDT (May 7\, 0845 Nepal time) Rick Chua\, MD\, My Journey Thru MIS Spine Surgery
URL:https://nepalspinefoundation.com/event/may-2022-monthly-zoom-meeting/
END:VEVENT
BEGIN:VEVENT
DTSTART;VALUE=DATE:20220404
DTEND;VALUE=DATE:20220410
DTSTAMP:20260425T063153
CREATED:20220214T214014Z
LAST-MODIFIED:20220214T214014Z
UID:983-1649030400-1649548799@nepalspinefoundation.com
SUMMARY:Dr. Rick Chua at TUTH
DESCRIPTION:Dr. Rick Chua is returning to TUTH to continue mentoring and lecture at the NESON meeting (Nepal Neurosurgery Society).
URL:https://nepalspinefoundation.com/event/dr-rick-chua-at-tuth/
END:VEVENT
BEGIN:VEVENT
DTSTART;VALUE=DATE:20220325
DTEND;VALUE=DATE:20220331
DTSTAMP:20260425T063153
CREATED:20220214T213926Z
LAST-MODIFIED:20220214T213926Z
UID:981-1648166400-1648684799@nepalspinefoundation.com
SUMMARY:Dr. Farrokh Farrokhi at TUTH
DESCRIPTION:Dr. Farrokh Farrokhi is returning to TUTH to continue mentoring the minimally invasive surgery techniques taught during Spine Week\, November 2021.
URL:https://nepalspinefoundation.com/event/dr-farrokh-farrokhi-at-tuth/
END:VEVENT
BEGIN:VEVENT
DTSTART;TZID=America/Los_Angeles:20220318T200000
DTEND;TZID=America/Los_Angeles:20220318T210000
DTSTAMP:20260425T063153
CREATED:20211209T235350Z
LAST-MODIFIED:20211209T235528Z
UID:590-1647633600-1647637200@nepalspinefoundation.com
SUMMARY:March 2022 Monthly Zoom Meeting
DESCRIPTION:8pm PDT (March 19\, 0845 Nepal time) Farrokh Farrokhi\, MD\, Update on MIS Spine research
URL:https://nepalspinefoundation.com/event/march-2022-monthly-zoom-meeting/
END:VEVENT
BEGIN:VEVENT
DTSTART;TZID=America/Los_Angeles:20220211T190000
DTEND;TZID=America/Los_Angeles:20220211T200000
DTSTAMP:20260425T063153
CREATED:20211029T195206Z
LAST-MODIFIED:20211209T235212Z
UID:128-1644606000-1644609600@nepalspinefoundation.com
SUMMARY:February 2022 Monthly Zoom Meeting
DESCRIPTION:7pm PST (9pm CST and Feb. 12\, 0845 Nepal time) Scott Blumenthal\, MD\,   Cervical Arthroplasty vs Fusion
URL:https://nepalspinefoundation.com/event/february-2022-monthly-zoom-meeting/
END:VEVENT
BEGIN:VEVENT
DTSTART;TZID=America/Los_Angeles:20220121T190000
DTEND;TZID=America/Los_Angeles:20220121T200000
DTSTAMP:20260425T063153
CREATED:20211029T195122Z
LAST-MODIFIED:20211209T235138Z
UID:126-1642791600-1642795200@nepalspinefoundation.com
SUMMARY:January 2022 Monthly Zoom Meeting
DESCRIPTION:7pm PST (9pm CST and Jan. 22\, 0845 Nepal Time) Rick Fessler\, MD\, Minimally Invasive Approach to Spine Trauma
URL:https://nepalspinefoundation.com/event/january-2022-monthly-zoom-meeting/
END:VEVENT
BEGIN:VEVENT
DTSTART;TZID=America/Los_Angeles:20211217T200000
DTEND;TZID=America/Los_Angeles:20211217T210000
DTSTAMP:20260425T063153
CREATED:20211029T195032Z
LAST-MODIFIED:20211105T233746Z
UID:124-1639771200-1639774800@nepalspinefoundation.com
SUMMARY:December 2021 Monthly Zoom Meeting
DESCRIPTION:8pm PST (Dec. 18\, 0845 Nepal time) Sanan Sivakanthan\, MD\, Thoracolumbar Trauma (the AO classification from a biomechanical perspective)
URL:https://nepalspinefoundation.com/event/december-2021-monthly-zoom-meeting/
END:VEVENT
BEGIN:VEVENT
DTSTART;TZID=America/Los_Angeles:20211117T100000
DTEND;TZID=America/Los_Angeles:20211127T110000
DTSTAMP:20260425T063153
CREATED:20211029T194017Z
LAST-MODIFIED:20211029T195251Z
UID:121-1637143200-1638010800@nepalspinefoundation.com
SUMMARY:2021 Nepal Volunteer Trip
DESCRIPTION:Nepal Spine Foundation will be traveling to Nepal to perform surgical operations and train surgeons at TUTH during the month of November.
URL:https://nepalspinefoundation.com/event/2021-nepal-volunteer-trip/
END:VEVENT
BEGIN:VEVENT
DTSTART;TZID=America/Los_Angeles:20211029T200000
DTEND;TZID=America/Los_Angeles:20211029T210000
DTSTAMP:20260425T063153
CREATED:20211029T195423Z
LAST-MODIFIED:20211105T233726Z
UID:130-1635537600-1635541200@nepalspinefoundation.com
SUMMARY:October 2021 Monthly Zoom Meeting
DESCRIPTION:8pm PST (Oct. 30\, 0845 Nepal time) Rick Chua\, MD\, MIS Spine Surgery
URL:https://nepalspinefoundation.com/event/october-monthly-zoom-meeting/
END:VEVENT
BEGIN:VEVENT
DTSTART;TZID=America/Los_Angeles:20210924T190000
DTEND;TZID=America/Los_Angeles:20210924T200000
DTSTAMP:20260425T063153
CREATED:20211105T233206Z
LAST-MODIFIED:20211105T233206Z
UID:448-1632510000-1632513600@nepalspinefoundation.com
SUMMARY:September 2021 Monthly Zoom Meeting
DESCRIPTION:Geoffrey Andrews\, PhD\, MBA\, Online Learning for Spine Surgeons
URL:https://nepalspinefoundation.com/event/september-2021-monthly-zoom-meeting/
END:VEVENT
BEGIN:VEVENT
DTSTART;TZID=America/Los_Angeles:20210827T190000
DTEND;TZID=America/Los_Angeles:20210827T200000
DTSTAMP:20260425T063153
CREATED:20211105T233130Z
LAST-MODIFIED:20211105T233130Z
UID:446-1630090800-1630094400@nepalspinefoundation.com
SUMMARY:August 2021 Monthly Zoom Meeting
DESCRIPTION:Mick Perez-Cruet\, MD\, MIS TLIFs\, two resident cases
URL:https://nepalspinefoundation.com/event/august-2021-monthly-zoom-meeting/
END:VEVENT
BEGIN:VEVENT
DTSTART;TZID=America/Los_Angeles:20210723T190000
DTEND;TZID=America/Los_Angeles:20210723T200000
DTSTAMP:20260425T063153
CREATED:20211105T233053Z
LAST-MODIFIED:20211105T233053Z
UID:444-1627066800-1627070400@nepalspinefoundation.com
SUMMARY:July 2021 Monthly Zoom Meeting
DESCRIPTION:Scott Rodgers\, JD\, Medical-Legal Principles\, two resident cases
URL:https://nepalspinefoundation.com/event/july-2021-monthly-zoom-meeting/
END:VEVENT
BEGIN:VEVENT
DTSTART;TZID=America/Los_Angeles:20210625T190000
DTEND;TZID=America/Los_Angeles:20210625T200000
DTSTAMP:20260425T063153
CREATED:20211105T233019Z
LAST-MODIFIED:20211105T233019Z
UID:442-1624647600-1624651200@nepalspinefoundation.com
SUMMARY:June 2021 Monthly Zoom Meeting
DESCRIPTION:Dr. Abdullah Feroze: Paper Writing and Publications\, resident case
URL:https://nepalspinefoundation.com/event/june-2021-monthly-zoom-meeting/
END:VEVENT
BEGIN:VEVENT
DTSTART;TZID=America/Los_Angeles:20210526T190000
DTEND;TZID=America/Los_Angeles:20210526T200000
DTSTAMP:20260425T063153
CREATED:20211105T232807Z
LAST-MODIFIED:20211105T232807Z
UID:439-1622055600-1622059200@nepalspinefoundation.com
SUMMARY:May 2021 Monthly Zoom Meeting
DESCRIPTION:Dr. Arne Roos: Skull Base Surgery
URL:https://nepalspinefoundation.com/event/may-2021-monthly-zoom-meeting/
END:VEVENT
BEGIN:VEVENT
DTSTART;TZID=America/Los_Angeles:20210430T190000
DTEND;TZID=America/Los_Angeles:20210430T200000
DTSTAMP:20260425T063153
CREATED:20211105T232720Z
LAST-MODIFIED:20211105T232932Z
UID:437-1619809200-1619812800@nepalspinefoundation.com
SUMMARY:April 2021 Monthly Zoom Meeting
DESCRIPTION:Dr. Jens Chapman: Principles of Spine Trauma Care\, resident case
URL:https://nepalspinefoundation.com/event/april-2021-monthly-zoom-meeting/
END:VEVENT
BEGIN:VEVENT
DTSTART;TZID=America/Los_Angeles:20210326T190000
DTEND;TZID=America/Los_Angeles:20210326T200000
DTSTAMP:20260425T063153
CREATED:20211105T232638Z
LAST-MODIFIED:20211105T232910Z
UID:435-1616785200-1616788800@nepalspinefoundation.com
SUMMARY:March 2021 Monthly Zoom Meeting
DESCRIPTION:Dr. Alex Mohit: Coding and Documentation\, resident case
URL:https://nepalspinefoundation.com/event/march-2021-monthly-zoom-meeting/
END:VEVENT
BEGIN:VEVENT
DTSTART;TZID=America/Los_Angeles:20210226T190000
DTEND;TZID=America/Los_Angeles:20210226T200000
DTSTAMP:20260425T063153
CREATED:20211105T232557Z
LAST-MODIFIED:20211105T232849Z
UID:433-1614366000-1614369600@nepalspinefoundation.com
SUMMARY:February 2021 Monthly Zoom Meeting
DESCRIPTION:Dr. Ken Nwosu: Neuro-Monitoring\, two resident cases
URL:https://nepalspinefoundation.com/event/february-2021-monthly-zoom-meeting/
END:VEVENT
BEGIN:VEVENT
DTSTART;TZID=America/Los_Angeles:20210122T190000
DTEND;TZID=America/Los_Angeles:20210122T200000
DTSTAMP:20260425T063153
CREATED:20211105T232520Z
LAST-MODIFIED:20211105T232520Z
UID:431-1611342000-1611345600@nepalspinefoundation.com
SUMMARY:January 2021 Monthly Zoom Meeting
DESCRIPTION:Dr. Kathy Wang: Peripheral Nerve Stimulation
URL:https://nepalspinefoundation.com/event/january-2021-monthly-zoom-meeting/
END:VEVENT
BEGIN:VEVENT
DTSTART;TZID=America/Los_Angeles:20201218T190000
DTEND;TZID=America/Los_Angeles:20201218T200000
DTSTAMP:20260425T063153
CREATED:20211105T231914Z
LAST-MODIFIED:20211105T232247Z
UID:418-1608318000-1608321600@nepalspinefoundation.com
SUMMARY:December 2020 Monthly Zoom Meeting
DESCRIPTION:Dr. David Paly: Updates on Anesthesia for Spine Surgery
URL:https://nepalspinefoundation.com/event/december-monthly-zoom-meeting/
END:VEVENT
BEGIN:VEVENT
DTSTART;TZID=America/Los_Angeles:20201016T190000
DTEND;TZID=America/Los_Angeles:20201016T200000
DTSTAMP:20260425T063153
CREATED:20211105T231818Z
LAST-MODIFIED:20211105T232318Z
UID:416-1602874800-1602878400@nepalspinefoundation.com
SUMMARY:October 2020 Monthly Zoom Meeting
DESCRIPTION:Dr. Farrokh Farrokhi: Artificial Intelligence and Machine Learning
URL:https://nepalspinefoundation.com/event/416/
END:VEVENT
BEGIN:VEVENT
DTSTART;TZID=America/Los_Angeles:20200911T190000
DTEND;TZID=America/Los_Angeles:20200911T200000
DTSTAMP:20260425T063153
CREATED:20211105T231643Z
LAST-MODIFIED:20211105T232329Z
UID:414-1599850800-1599854400@nepalspinefoundation.com
SUMMARY:September 2020 Monthly Zoom Meeting
DESCRIPTION:Dr. Rick Chua\, Cervical Arthroplasty\, two resident cases
URL:https://nepalspinefoundation.com/event/september-monthly-zoom-meeting/
END:VEVENT
BEGIN:VEVENT
DTSTART;TZID=America/Los_Angeles:20200807T190000
DTEND;TZID=America/Los_Angeles:20200807T200000
DTSTAMP:20260425T063153
CREATED:20211105T231539Z
LAST-MODIFIED:20211105T232340Z
UID:412-1596826800-1596830400@nepalspinefoundation.com
SUMMARY:August 2020 Monthly Zoom Meeting
DESCRIPTION:Dr. Wohns: Hybrids\, two resident cases
URL:https://nepalspinefoundation.com/event/august-monthly-zoom-meeting/
END:VEVENT
BEGIN:VEVENT
DTSTART;TZID=America/Los_Angeles:20200625T190000
DTEND;TZID=America/Los_Angeles:20200625T200000
DTSTAMP:20260425T063153
CREATED:20211105T231342Z
LAST-MODIFIED:20211105T232353Z
UID:408-1593111600-1593115200@nepalspinefoundation.com
SUMMARY:June 2020 Monthly Zoom Meeting
DESCRIPTION:Dr. Wohns: Robotic Spine Surgery\, two resident cases
URL:https://nepalspinefoundation.com/event/408/
END:VEVENT
BEGIN:VEVENT
DTSTART;TZID=America/Los_Angeles:20200521T190000
DTEND;TZID=America/Los_Angeles:20200521T200000
DTSTAMP:20260425T063153
CREATED:20211105T231115Z
LAST-MODIFIED:20211105T232407Z
UID:402-1590087600-1590091200@nepalspinefoundation.com
SUMMARY:May 2020 Monthly Zoom Meeting
DESCRIPTION:Inaugural presentations\, Dr. Wohns\, May 21\, 2020: 1. Presentation on Safety and Efficiency of Cervical Disc Arthroplasty in Ambulatory Surgery Centers vs Hospital Settings 2. Discussion of recent experience as Commissioner on the Washington Medical Commission
URL:https://nepalspinefoundation.com/event/402/
END:VEVENT
END:VCALENDAR